BEGIN:VCALENDAR
VERSION:2.0
PRODID:-//Tuxedo Tennis Club (TTC) - ECPv6.13.2.1//NONSGML v1.0//EN
CALSCALE:GREGORIAN
METHOD:PUBLISH
X-WR-CALNAME:Tuxedo Tennis Club (TTC)
X-ORIGINAL-URL:http://tuxedotennis.com
X-WR-CALDESC:Events for Tuxedo Tennis Club (TTC)
REFRESH-INTERVAL;VALUE=DURATION:PT1H
X-Robots-Tag:noindex
X-PUBLISHED-TTL:PT1H
BEGIN:VTIMEZONE
TZID:UTC
BEGIN:STANDARD
TZOFFSETFROM:+0000
TZOFFSETTO:+0000
TZNAME:UTC
DTSTART:20180101T000000
END:STANDARD
END:VTIMEZONE
BEGIN:VTIMEZONE
TZID:America/Winnipeg
BEGIN:DAYLIGHT
TZOFFSETFROM:-0600
TZOFFSETTO:-0500
TZNAME:CDT
DTSTART:20170312T080000
END:DAYLIGHT
BEGIN:STANDARD
TZOFFSETFROM:-0500
TZOFFSETTO:-0600
TZNAME:CST
DTSTART:20171105T070000
END:STANDARD
END:VTIMEZONE
BEGIN:VEVENT
DTSTART;VALUE=DATE:20190715
DTEND;VALUE=DATE:20190722
DTSTAMP:20260423T132327
CREATED:20190328T055719Z
LAST-MODIFIED:20190328T060201Z
UID:2042-1563148800-1563753599@tuxedotennis.com
SUMMARY:Tuxedo Open - see details for court usage
DESCRIPTION:Tuxedo Open – Tennis Manitoba \nAll 6 courts are in use for the following time periods: \nMonday to Friday July 15 – 19          5:00pm to 9:00pm\nSaturday July 20                              9:00am to 6:00pm\nSunday July 21                                9:00am to 6:00pm \n 
URL:http://tuxedotennis.com/event/tuxedo-open-tennis-manitoba/
END:VEVENT
BEGIN:VEVENT
DTSTART;TZID=UTC:20190707T140000
DTEND;TZID=UTC:20190707T170000
DTSTAMP:20260423T132327
CREATED:20190328T054658Z
LAST-MODIFIED:20190328T054824Z
UID:2040-1562508000-1562518800@tuxedotennis.com
SUMMARY:Rogers Rookie Tour
DESCRIPTION:Rogers Rookie Tour – Sunday\, July 7 2:00pm to 5:00pm \n4 courts will be used for the Rogers Rookie Tour
URL:http://tuxedotennis.com/event/rogers-rookie-tour-4/
END:VEVENT
BEGIN:VEVENT
DTSTART;TZID=UTC:20190703T183000
DTEND;TZID=UTC:20190703T210000
DTSTAMP:20260423T132327
CREATED:20190429T212112Z
LAST-MODIFIED:20190429T212634Z
UID:2124-1562178600-1562187600@tuxedotennis.com
SUMMARY:Team Tennis Session #2 Starts
DESCRIPTION:Team Tennis Session #2 runs every Wednesday from Jul 3- Aug 28 (*No Tennis  July 17 due to Tuxedo Tennis Open )
URL:http://tuxedotennis.com/event/team-tennis-session-2/
END:VEVENT
BEGIN:VEVENT
DTSTART;TZID=UTC:20190626T183000
DTEND;TZID=UTC:20190626T213000
DTSTAMP:20260423T132327
CREATED:20190429T213230Z
LAST-MODIFIED:20190429T213239Z
UID:2130-1561573800-1561584600@tuxedotennis.com
SUMMARY:Team Tennis Session #1 Windup
DESCRIPTION:Team Tennis Session #1 ends with a team windup.
URL:http://tuxedotennis.com/event/team-tennis-session-1-windup/
END:VEVENT
BEGIN:VEVENT
DTSTART;TZID=UTC:20190616T140000
DTEND;TZID=UTC:20190616T170000
DTSTAMP:20260423T132327
CREATED:20190328T054233Z
LAST-MODIFIED:20190328T054256Z
UID:2038-1560693600-1560704400@tuxedotennis.com
SUMMARY:Rogers Rookie Tour
DESCRIPTION:Rogers Rookie Tour – Sunday\, June 16 2:00pm to 5:00pm \n4 courts will be used for the Rogers Rookie Tour
URL:http://tuxedotennis.com/event/rogers-rookie-tour-3/
END:VEVENT
BEGIN:VEVENT
DTSTART;TZID=UTC:20190530T190000
DTEND;TZID=UTC:20190530T203000
DTSTAMP:20260423T132327
CREATED:20190328T052548Z
LAST-MODIFIED:20190328T052548Z
UID:2032-1559242800-1559248200@tuxedotennis.com
SUMMARY:Beginner FAST Clinic Session 4
DESCRIPTION:Beginner FAST Clinic Session 4 \n7:00 PM to 8:30 PM
URL:http://tuxedotennis.com/event/beginner-fast-clinic-session-4/
END:VEVENT
BEGIN:VEVENT
DTSTART;VALUE=DATE:20190530
DTEND;VALUE=DATE:20190603
DTSTAMP:20260423T132327
CREATED:20190328T053135Z
LAST-MODIFIED:20190328T061009Z
UID:2034-1559174400-1559519999@tuxedotennis.com
SUMMARY:Tuxedo Junior Open - see details for court usage
DESCRIPTION:Tuxedo Junior Open (Tennis Manitoba) \nFriday\, May 30 to Sunday\, June 2 \nCourt Usage Times: \nMay 30 – 5:00pm to 9:00pm  – 5 courts\nMay 31 – 5:00pm to 9:00pm – 6 courts\nJune 1 – 9:00am to 6:00pm  – 6 courts\nJune 2 – 9:00am to 6:00pm  – 6 courts
URL:http://tuxedotennis.com/event/tuxedo-junior-open-tm/
END:VEVENT
BEGIN:VEVENT
DTSTART;TZID=UTC:20190524T190000
DTEND;TZID=UTC:20190524T213000
DTSTAMP:20260423T132327
CREATED:20190507T010031Z
LAST-MODIFIED:20190519T042518Z
UID:2166-1558724400-1558733400@tuxedotennis.com
SUMMARY:Wine & Cheese
DESCRIPTION:This is an evening for some fun tennis playing and socialising!\nIt will be $5 per person to help us pay for the food.\nCash bar for wine & beer. Non-alcoholic drinks for sale as well.\nPlease RSVP by Wednesday\, May 22nd by phone (204-837-3766)\, email (tuxedotennis@gmail.com) or in person.\nYou may bring a guest who is not a member\, they must pay our guest fee ($10) or use a guest pass if they wish to play tennis.
URL:http://tuxedotennis.com/event/wine-cheese/
END:VEVENT
BEGIN:VEVENT
DTSTART;TZID=UTC:20190523T190000
DTEND;TZID=UTC:20190523T203000
DTSTAMP:20260423T132327
CREATED:20190328T052411Z
LAST-MODIFIED:20190328T052411Z
UID:2030-1558638000-1558643400@tuxedotennis.com
SUMMARY:Beginner FAST Clinic Session 3
DESCRIPTION:Beginner FAST Clinic Session 3 \n7:00 PM to 8:30 PM
URL:http://tuxedotennis.com/event/beginner-fast-clinic-session-3/
END:VEVENT
BEGIN:VEVENT
DTSTART;TZID=UTC:20190516T190000
DTEND;TZID=UTC:20190516T203000
DTSTAMP:20260423T132327
CREATED:20190328T052218Z
LAST-MODIFIED:20190328T052233Z
UID:2027-1558033200-1558038600@tuxedotennis.com
SUMMARY:Beginner FAST Clinic Session 2
DESCRIPTION:Beginner FAST Clinic Session 2 \n7:00 PM to 8:30 PM
URL:http://tuxedotennis.com/event/beginner-fast-clinic-session-2/
END:VEVENT
BEGIN:VEVENT
DTSTART;TZID=UTC:20190515T183000
DTEND;TZID=UTC:20190515T210000
DTSTAMP:20260423T132327
CREATED:20190429T211413Z
LAST-MODIFIED:20190507T005047Z
UID:2121-1557945000-1557954000@tuxedotennis.com
SUMMARY:Team Tennis Session #1 Starts
DESCRIPTION:Team Tennis Session #1 runs every Wednesday from May 8 – June 26th – 6:30 – 9:00 PM
URL:http://tuxedotennis.com/event/team-tennis-session-1/
END:VEVENT
BEGIN:VEVENT
DTSTART;TZID=UTC:20190509T190000
DTEND;TZID=UTC:20190509T203000
DTSTAMP:20260423T132327
CREATED:20190328T051918Z
LAST-MODIFIED:20190328T060636Z
UID:2024-1557428400-1557433800@tuxedotennis.com
SUMMARY:Beginner FAST Clinic Session 1
DESCRIPTION:Beginner FAST Clinic Session 1\n7:00 PM to 8:30 PM
URL:http://tuxedotennis.com/event/beginner-fast-clinic/
END:VEVENT
BEGIN:VEVENT
DTSTART;TZID=UTC:20190504T110000
DTEND;TZID=UTC:20190504T150000
DTSTAMP:20260423T132327
CREATED:20190328T051609Z
LAST-MODIFIED:20190328T060034Z
UID:2021-1556967600-1556982000@tuxedotennis.com
SUMMARY:2019 Open House
DESCRIPTION:Open House Saturday\, May 4 11:00 to 3:00 PM
URL:http://tuxedotennis.com/event/2019-open-house/
END:VEVENT
BEGIN:VEVENT
DTSTART;TZID=UTC:20190427T090000
DTEND;TZID=UTC:20190427T150000
DTSTAMP:20260423T132327
CREATED:20190407T005055Z
LAST-MODIFIED:20190407T005055Z
UID:2104-1556355600-1556377200@tuxedotennis.com
SUMMARY:Club Opening Work Party
DESCRIPTION:Club Opening Work Party on Saturday\, April 27 9:00 to 2:00 pm\nVolunteers Needed ! Come out and help get the clubhouse and grounds ready for the new season. \n 
URL:http://tuxedotennis.com/event/club-opening-work-party/
END:VEVENT
BEGIN:VEVENT
DTSTART;VALUE=DATE:20181019
DTEND;VALUE=DATE:20181020
DTSTAMP:20260423T132327
CREATED:20181015T224544Z
LAST-MODIFIED:20181015T224544Z
UID:1950-1539907200-1539993599@tuxedotennis.com
SUMMARY:Fall Work Party
DESCRIPTION:The Fall close up work party at the club is scheduled for  Friday\, October 19\, 1:00 pm\, depending on the weather.
URL:http://tuxedotennis.com/event/fall-work-party/
END:VEVENT
BEGIN:VEVENT
DTSTART;TZID=UTC:20181015T190000
DTEND;TZID=UTC:20181015T210000
DTSTAMP:20260423T132327
CREATED:20181015T224354Z
LAST-MODIFIED:20181015T224354Z
UID:1948-1539630000-1539637200@tuxedotennis.com
SUMMARY:Annual General Meeting
DESCRIPTION:The Annual General Meeting of the Tuxedo Tennis Club will take place Monday\, October 15\, 2018 at 7:00 PM in the clubhouse\, 370 Southport Drive.  We will be reviewing and seeking approval for capital expenditures in 2019. We hope many of you are able to attend to give your input.
URL:http://tuxedotennis.com/event/annual-general-meeting/
END:VEVENT
BEGIN:VEVENT
DTSTART;VALUE=DATE:20180914
DTEND;VALUE=DATE:20180917
DTSTAMP:20260423T132327
CREATED:20180728T002250Z
LAST-MODIFIED:20190815T020426Z
UID:1711-1536883200-1537142399@tuxedotennis.com
SUMMARY:Tuxedo Tennis Club Fall Tournament
DESCRIPTION:
URL:http://tuxedotennis.com/event/tuxedo-tennis-club-fall-tournament/
END:VEVENT
BEGIN:VEVENT
DTSTART;TZID=UTC:20180819T140000
DTEND;TZID=UTC:20180819T170000
DTSTAMP:20260423T132327
CREATED:20180317T013639Z
LAST-MODIFIED:20180317T013654Z
UID:1525-1534687200-1534698000@tuxedotennis.com
SUMMARY:Rogers Rookie Tour
DESCRIPTION:Rogers Rookie Tour\n\nSunday – June 24th\,   2 – 5 pm\, Courts 1-4\nSunday\, Aug 19th\, 2 – 5 pm\, Courts 1-4
URL:http://tuxedotennis.com/event/rogers-rookie-tour-2/
END:VEVENT
BEGIN:VEVENT
DTSTART;VALUE=DATE:20180716
DTEND;VALUE=DATE:20180723
DTSTAMP:20260423T132327
CREATED:20180317T012843Z
LAST-MODIFIED:20180317T012853Z
UID:1521-1531699200-1532303999@tuxedotennis.com
SUMMARY:Tuxedo Open
DESCRIPTION:Tuxedo Open – Monday\, July 16 to Sunday\, July 22
URL:http://tuxedotennis.com/event/tuxedo-open/
END:VEVENT
BEGIN:VEVENT
DTSTART;VALUE=DATE:20180707
DTEND;VALUE=DATE:20180716
DTSTAMP:20260423T132327
CREATED:20180317T014000Z
LAST-MODIFIED:20180425T101320Z
UID:1530-1530921600-1531699199@tuxedotennis.com
SUMMARY:National Bank Challenger
DESCRIPTION:National Bank Challenger\n\nJuly 7- July 15 at the Winnipeg Lawn Tennis.\nTuxedo Tennis Club Courts 1 & 2 are used for practice.
URL:http://tuxedotennis.com/event/national-bank-challenger/
END:VEVENT
BEGIN:VEVENT
DTSTART;TZID=UTC:20180624T140000
DTEND;TZID=UTC:20180624T170000
DTSTAMP:20260423T132327
CREATED:20180317T013412Z
LAST-MODIFIED:20180317T013433Z
UID:1523-1529848800-1529859600@tuxedotennis.com
SUMMARY:Rogers Rookie Tour
DESCRIPTION:Rogers Rookie Tour\n\nSunday – June 24th\,   2 – 5 pm\, Courts 1-4\nSunday\, Aug 19th\, 2 – 5 pm\, Courts 1-4\n\n 
URL:http://tuxedotennis.com/event/rogers-rookie-tour/
END:VEVENT
BEGIN:VEVENT
DTSTART;VALUE=DATE:20180622
DTEND;VALUE=DATE:20180625
DTSTAMP:20260423T132327
CREATED:20180509T103749Z
LAST-MODIFIED:20180531T042030Z
UID:1629-1529625600-1529884799@tuxedotennis.com
SUMMARY:Spring Club Tournament
DESCRIPTION:Tuxedo Spring Club tournament June 22-24 – an opportunity to play competitive singles and/or doubles tennis.
URL:http://tuxedotennis.com/event/spring-club-tournament/
END:VEVENT
BEGIN:VEVENT
DTSTART;VALUE=DATE:20180531
DTEND;VALUE=DATE:20180604
DTSTAMP:20260423T132327
CREATED:20180317T012715Z
LAST-MODIFIED:20180531T041751Z
UID:1519-1527724800-1528070399@tuxedotennis.com
SUMMARY:Tuxedo Junior Open
DESCRIPTION:Tuxedo Junior Open – Thursday\, May 31 to Sunday\, June 3\nThursday and Friday matches run from 5:00 pm to closing.\nSaturday matches run from 9:00 am till 9:00 pm.\nSunday matches run from 9:00 am till 7:00 pm\, but some courts may be available for club play.
URL:http://tuxedotennis.com/event/tuxedo-junior-open/
END:VEVENT
BEGIN:VEVENT
DTSTART;TZID=UTC:20180524T183000
DTEND;TZID=UTC:20180524T200000
DTSTAMP:20260423T132327
CREATED:20180504T065535Z
LAST-MODIFIED:20180504T065535Z
UID:1593-1527186600-1527192000@tuxedotennis.com
SUMMARY:Introduction to Tennis - Week 3
DESCRIPTION:Introduction to Tennis – Week 3\nLearn the rules\, etiquette and all the strokes to get comfortable to play the game. Free try out – get 1 hour of on court instruction at our Open House Saturday May 5\, @1:30. \nIncludes: \n\nThree 1.5 hour instruction sessions from advanced tennis player members of TTC on Thursdays\, May 10\, 17\, 24  @ 6:30 – 8:00 pm.  Cost $30.00\nUnlimited access to club facilities for May\nOption to signup for full membership for the balance of the season with the $30.00 applied to the cost of the annual membership fee.
URL:http://tuxedotennis.com/event/introduction-to-tennis-week-3/
ATTACH;FMTTYPE=image/jpeg:http://tuxedotennis.com/wp-content/uploads/2018/05/TTC_Introduction_Tennis_2018.jpg
END:VEVENT
BEGIN:VEVENT
DTSTART;TZID=UTC:20180517T183000
DTEND;TZID=UTC:20180517T200000
DTSTAMP:20260423T132327
CREATED:20180504T065240Z
LAST-MODIFIED:20180504T065348Z
UID:1590-1526581800-1526587200@tuxedotennis.com
SUMMARY:Introduction to Tennis - Week 2
DESCRIPTION:Introduction to Tennis – Week 2\nLearn the rules\, etiquette and all the strokes to get comfortable to play the game. Free try out – get 1 hour of on court instruction at our Open House Saturday May 5\, @1:30. \nIncludes: \n\nThree 1.5 hour instruction sessions from advanced tennis player members of TTC on Thursdays\, May 10\, 17\, 24  @ 6:30 – 8:00 pm.  Cost $30.00\nUnlimited access to club facilities for May\nOption to signup for full membership for the balance of the season with the $30.00 applied to the cost of the annual membership fee.
URL:http://tuxedotennis.com/event/introduction-to-tennis-week-2/
ATTACH;FMTTYPE=image/jpeg:http://tuxedotennis.com/wp-content/uploads/2018/05/TTC_Introduction_Tennis_2018.jpg
END:VEVENT
BEGIN:VEVENT
DTSTART;TZID=UTC:20180510T183000
DTEND;TZID=UTC:20180510T200000
DTSTAMP:20260423T132327
CREATED:20180504T063513Z
LAST-MODIFIED:20180504T065057Z
UID:1577-1525977000-1525982400@tuxedotennis.com
SUMMARY:Introduction to Tennis - Week 1
DESCRIPTION:Introduction to Tennis – May 2018 – Week 1\nLearn the rules\, etiquette and all the strokes to get comfortable to play the game. Free try out – get 1 hour of on court instruction at our Open House Saturday May 5\, @1:30. \nIncludes: \n\nThree 1.5 hour instruction sessions from advanced tennis player members of TTC on Thursdays\, May 10\, 17\, 24  @ 6:30 – 8:00 pm.  Cost $30.00\nUnlimited access to club facilities for May\nOption to signup for full membership for the balance of the season with the $30.00 applied to the cost of the annual membership fee.
URL:http://tuxedotennis.com/event/introduction-to-tennis/
ATTACH;FMTTYPE=image/jpeg:http://tuxedotennis.com/wp-content/uploads/2018/05/TTC_Introduction_Tennis_2018.jpg
END:VEVENT
BEGIN:VEVENT
DTSTART;TZID=UTC:20180505T100000
DTEND;TZID=UTC:20180505T150000
DTSTAMP:20260423T132327
CREATED:20180316T205520Z
LAST-MODIFIED:20180504T070738Z
UID:1488-1525514400-1525532400@tuxedotennis.com
SUMMARY:Tuxedo Tennis Open House - Saturday May 5\, 2018
DESCRIPTION:Free play\, membership information\, meet the pro and club manager.
URL:http://tuxedotennis.com/event/tuxedo-tennis-open-house-saturday-may-5-2018/
LOCATION:Tuxedo Tennis Club\, 370 Southport Blvd.\, Winnipeg\, Manitoba\, Canada
END:VEVENT
BEGIN:VEVENT
DTSTART;TZID=UTC:20180428T090000
DTEND;TZID=UTC:20180501T170000
DTSTAMP:20260423T132327
CREATED:20180425T102705Z
LAST-MODIFIED:20180425T111811Z
UID:1555-1524906000-1525194000@tuxedotennis.com
SUMMARY:Tennis Coaching Course - Club Pro 1 (CP1)
DESCRIPTION:Club Pro 1 (CP1) Course – Sat April 28th to Tues\, May 1\nA Club Pro 1 (CP1) Course will be held at Tuxedo Tennis Club from Saturday\, April 28 to Tuesday\, May 1 (9 AM to 5 PM).  The course will be led by Jared Connell (Director of Tennis Development/Provincial Coach for Tennis Manitoba)\, Andy Sutton (Head Course Facilitator from Tennis Canada) and Colin Latchford (Course Facilitator for Tennis Saskatchewan) and utilize Courts 1 & 2.
URL:http://tuxedotennis.com/event/tennis-coaching-course-club-pro-1-cp1/
END:VEVENT
BEGIN:VEVENT
DTSTART;TZID=UTC:20180421T100000
DTEND;TZID=UTC:20180421T140000
DTSTAMP:20260423T132327
CREATED:20180407T205009Z
LAST-MODIFIED:20180407T205017Z
UID:1535-1524304800-1524319200@tuxedotennis.com
SUMMARY:Tuxedo Tennis Club Volunteer Work Party
DESCRIPTION:Volunteer Work Party – Saturday April  21  10:00 – 2:00 \nCome on out to the Volunteer Work Party and help get the club ready for the 2018 season.  Finish off with some tennis and hot dogs. Membership payments can be made as well.
URL:http://tuxedotennis.com/event/tuxedo-tennis-club-volunteer-work-party/
END:VEVENT
BEGIN:VEVENT
DTSTART;TZID=America/Winnipeg:20170722T080000
DTEND;TZID=America/Winnipeg:20170723T170000
DTSTAMP:20260423T132327
CREATED:20170314T213854Z
LAST-MODIFIED:20170320T015239Z
UID:1075-1500710400-1500829200@tuxedotennis.com
SUMMARY:Tuxedo Open Tournament
DESCRIPTION:
URL:http://tuxedotennis.com/event/tuxedo-open-tournament-3/
LOCATION:Tuxedo Tennis Club\, 370 Southport Blvd.\, Winnipeg\, Manitoba\, Canada
ORGANIZER;CN="Tennis Manitoba":MAILTO:mark@tennismanitoba.com
END:VEVENT
END:VCALENDAR