BEGIN:VCALENDAR
VERSION:2.0
PRODID:-//Tuxedo Tennis Club (TTC) - ECPv6.13.2.1//NONSGML v1.0//EN
CALSCALE:GREGORIAN
METHOD:PUBLISH
X-ORIGINAL-URL:http://tuxedotennis.com
X-WR-CALDESC:Events for Tuxedo Tennis Club (TTC)
REFRESH-INTERVAL;VALUE=DURATION:PT1H
X-Robots-Tag:noindex
X-PUBLISHED-TTL:PT1H
BEGIN:VTIMEZONE
TZID:America/Winnipeg
BEGIN:DAYLIGHT
TZOFFSETFROM:-0600
TZOFFSETTO:-0500
TZNAME:CDT
DTSTART:20240310T080000
END:DAYLIGHT
BEGIN:STANDARD
TZOFFSETFROM:-0500
TZOFFSETTO:-0600
TZNAME:CST
DTSTART:20241103T070000
END:STANDARD
BEGIN:DAYLIGHT
TZOFFSETFROM:-0600
TZOFFSETTO:-0500
TZNAME:CDT
DTSTART:20250309T080000
END:DAYLIGHT
BEGIN:STANDARD
TZOFFSETFROM:-0500
TZOFFSETTO:-0600
TZNAME:CST
DTSTART:20251102T070000
END:STANDARD
END:VTIMEZONE
BEGIN:VTIMEZONE
TZID:UTC
BEGIN:STANDARD
TZOFFSETFROM:+0000
TZOFFSETTO:+0000
TZNAME:UTC
DTSTART:20190101T000000
END:STANDARD
END:VTIMEZONE
BEGIN:VTIMEZONE
TZID:America/Chicago
BEGIN:DAYLIGHT
TZOFFSETFROM:-0600
TZOFFSETTO:-0500
TZNAME:CDT
DTSTART:20230312T080000
END:DAYLIGHT
BEGIN:STANDARD
TZOFFSETFROM:-0500
TZOFFSETTO:-0600
TZNAME:CST
DTSTART:20231105T070000
END:STANDARD
END:VTIMEZONE
BEGIN:VEVENT
DTSTART;VALUE=DATE:20250906
DTEND;VALUE=DATE:20250910
DTSTAMP:20260423T101946
CREATED:20250505T193553Z
LAST-MODIFIED:20250505T193631Z
UID:4564-1757116800-1757462399@tuxedotennis.com
SUMMARY:Tennis Manitoba - Tuxedo Open
DESCRIPTION:Tuxedo Open
URL:http://tuxedotennis.com/event/tennis-manitoba/
END:VEVENT
BEGIN:VEVENT
DTSTART;VALUE=DATE:20250531
DTEND;VALUE=DATE:20250604
DTSTAMP:20260423T101946
CREATED:20250505T193259Z
LAST-MODIFIED:20250505T193259Z
UID:4562-1748649600-1748995199@tuxedotennis.com
SUMMARY:Manitoba Tennis - Tuxedo Junior Tournament
DESCRIPTION:Tuxedo Junior Tournament
URL:http://tuxedotennis.com/event/manitoba-tennis-tuxedo-junior-tournament/
END:VEVENT
BEGIN:VEVENT
DTSTART;TZID=UTC:20240905T080000
DTEND;TZID=UTC:20240908T200000
DTSTAMP:20260423T101946
CREATED:20240224T231131Z
LAST-MODIFIED:20240224T231131Z
UID:4340-1725523200-1725825600@tuxedotennis.com
SUMMARY:Manitoba Tennis - Tuxedo Open
DESCRIPTION:Manitoba Tennis Event hosted at TTC – check HMC for court restrictions (TBD) and Tennis Manitoba for further details.
URL:http://tuxedotennis.com/event/manitoba-tennis-tuxedo-open/
LOCATION:Tuxedo Tennis Club\, 370 Southport Blvd.\, Winnipeg\, Manitoba\, Canada
END:VEVENT
BEGIN:VEVENT
DTSTART;TZID=UTC:20240530T160000
DTEND;TZID=UTC:20240602T200000
DTSTAMP:20260423T101946
CREATED:20240224T230246Z
LAST-MODIFIED:20240224T231152Z
UID:4338-1717084800-1717358400@tuxedotennis.com
SUMMARY:Manitoba Tennis - Tuxedo Junior Open
DESCRIPTION:Manitoba Tennis Event hosted at TTC – check HMC for court restrictions (TBD) and Tennis Manitoba for further details.
URL:http://tuxedotennis.com/event/manitoba-tennis-tuxedo-junior-open/
END:VEVENT
BEGIN:VEVENT
DTSTART;TZID=America/Winnipeg:20240415T080000
DTEND;TZID=America/Winnipeg:20240415T170000
DTSTAMP:20260423T101946
CREATED:20240415T181622Z
LAST-MODIFIED:20240415T181622Z
UID:4424-1713168000-1713200400@tuxedotennis.com
SUMMARY:OPENING DAY - April 16th\, 2024
DESCRIPTION:WE ARE HAPPY TO ANNOUNCE AN EARLY START TO THE 2024 SEASON!
URL:http://tuxedotennis.com/event/opening-day-april-16th-2024/
END:VEVENT
BEGIN:VEVENT
DTSTART;TZID=UTC:20240315T000000
DTEND;TZID=UTC:20240315T233000
DTSTAMP:20260423T101946
CREATED:20240222T041318Z
LAST-MODIFIED:20240415T182043Z
UID:4302-1710460800-1710545400@tuxedotennis.com
SUMMARY:REGISTRATION OPENS MARCH 15\, 2024
DESCRIPTION:2024 Membership Registration Opens \nMARCH 15\, 2024 \nEarly Bird Pricing until May 15\, 2024 \nSee the Membership Page on our website.
URL:http://tuxedotennis.com/event/registration-opens-march-15-2024/
LOCATION:Tuxedo Tennis Club\, 370 Southport Blvd.\, Winnipeg\, Manitoba\, Canada
END:VEVENT
BEGIN:VEVENT
DTSTART;VALUE=DATE:20230713
DTEND;VALUE=DATE:20230717
DTSTAMP:20260423T101946
CREATED:20230405T203919Z
LAST-MODIFIED:20230405T204021Z
UID:4019-1689206400-1689551999@tuxedotennis.com
SUMMARY:Tuxedo Open
DESCRIPTION:Tuxedo Open is a Tennis Manitoba event running at TTC from Friday July 13 to Sunday July 16
URL:http://tuxedotennis.com/event/tuxedo-open-3/
LOCATION:Tuxedo Tennis Club\, 370 Southport Blvd.\, Winnipeg\, Manitoba\, Canada
ORGANIZER;CN="Tennis Manitoba":MAILTO:mark@tennismanitoba.com
END:VEVENT
BEGIN:VEVENT
DTSTART;TZID=America/Chicago:20230710T180000
DTEND;TZID=America/Chicago:20230710T210000
DTSTAMP:20260423T101946
CREATED:20230625T062238Z
LAST-MODIFIED:20230625T062238Z
UID:4119-1689012000-1689022800@tuxedotennis.com
SUMMARY:TTC Social Evening
DESCRIPTION:The Tuxedo Tennis Board invites you to the club on Monday July 10\, 2023  6-9 pm to have a dog\, get social and play some fun tennis games. \nWe are always looking for volunteers – please call the clubhouse. \nHope to see you there!
URL:http://tuxedotennis.com/event/ttc-social-evening/
LOCATION:Tuxedo Tennis Club\, 370 Southport Blvd.\, Winnipeg\, Manitoba\, Canada
END:VEVENT
BEGIN:VEVENT
DTSTART;VALUE=DATE:20230601
DTEND;VALUE=DATE:20230605
DTSTAMP:20260423T101946
CREATED:20230405T203731Z
LAST-MODIFIED:20230405T203731Z
UID:4017-1685577600-1685923199@tuxedotennis.com
SUMMARY:Tuxedo Junior Open(Jr)
DESCRIPTION:Tuxedo Junior Open(Jr)  run by Tennis Manitoba runs Thursday June 1 to Sunday June 4
URL:http://tuxedotennis.com/event/tuxedo-junior-openjr/
LOCATION:Tuxedo Tennis Club\, 370 Southport Blvd.\, Winnipeg\, Manitoba\, Canada
ORGANIZER;CN="Tennis Manitoba":MAILTO:mark@tennismanitoba.com
END:VEVENT
BEGIN:VEVENT
DTSTART;VALUE=DATE:20230518
DTEND;VALUE=DATE:20230616
DTSTAMP:20260423T101946
CREATED:20230405T204555Z
LAST-MODIFIED:20230405T204748Z
UID:4024-1684368000-1686873599@tuxedotennis.com
SUMMARY:FAST
DESCRIPTION:FAST:\n• May 18&25\, June 8&15 (no June 1 due to tourney) and make-up dates June 22&29 \nCheck out the Lessons page on our website for registration opening dates.
URL:http://tuxedotennis.com/event/fast/
LOCATION:Tuxedo Tennis Club\, 370 Southport Blvd.\, Winnipeg\, Manitoba\, Canada
END:VEVENT
BEGIN:VEVENT
DTSTART;VALUE=DATE:20230402
DTEND;VALUE=DATE:20230403
DTSTAMP:20260423T101946
CREATED:20230405T204113Z
LAST-MODIFIED:20230405T204224Z
UID:4021-1680393600-1680479999@tuxedotennis.com
SUMMARY:Registration Opens
DESCRIPTION:2023 Membership Registration Opens \nSee the Membership page on our website.
URL:http://tuxedotennis.com/event/registration-opens/
LOCATION:Tuxedo Tennis Club\, 370 Southport Blvd.\, Winnipeg\, Manitoba\, Canada
END:VEVENT
BEGIN:VEVENT
DTSTART;TZID=UTC:20220807T140000
DTEND;TZID=UTC:20220807T170000
DTSTAMP:20260423T101946
CREATED:20220624T084400Z
LAST-MODIFIED:20220624T084959Z
UID:3758-1659880800-1659891600@tuxedotennis.com
SUMMARY:Rookie Tour
DESCRIPTION:Tennis Canada Rookie Tour event to introduce young players to a soft competitive tournament.
URL:http://tuxedotennis.com/event/rookie-tour/
LOCATION:Tuxedo Tennis Club\, 370 Southport Blvd.\, Winnipeg\, Manitoba\, Canada
ORGANIZER;CN="Tennis Manitoba":MAILTO:mark@tennismanitoba.com
END:VEVENT
BEGIN:VEVENT
DTSTART;VALUE=DATE:20220714
DTEND;VALUE=DATE:20220718
DTSTAMP:20260423T101946
CREATED:20220329T231341Z
LAST-MODIFIED:20220329T231341Z
UID:3589-1657756800-1658102399@tuxedotennis.com
SUMMARY:Tuxedo Open
DESCRIPTION:Tennis Manitoba – Tuxedo Open
URL:http://tuxedotennis.com/event/tuxedo-open-2/
LOCATION:Tuxedo Tennis Club\, 370 Southport Blvd.\, Winnipeg\, Manitoba\, Canada
ORGANIZER;CN="Tennis Manitoba":MAILTO:mark@tennismanitoba.com
END:VEVENT
BEGIN:VEVENT
DTSTART;VALUE=DATE:20220602
DTEND;VALUE=DATE:20220606
DTSTAMP:20260423T101946
CREATED:20220329T231128Z
LAST-MODIFIED:20220329T231128Z
UID:3586-1654128000-1654473599@tuxedotennis.com
SUMMARY:Tuxedo Junior Open
DESCRIPTION:Tennis Manitoba – Tuxedo Junior Open
URL:http://tuxedotennis.com/event/tuxedo-junior-open-2/
LOCATION:Tuxedo Tennis Club\, 370 Southport Blvd.\, Winnipeg\, Manitoba\, Canada
ORGANIZER;CN="Tennis Manitoba":MAILTO:mark@tennismanitoba.com
END:VEVENT
BEGIN:VEVENT
DTSTART;TZID=UTC:20220519T190000
DTEND;TZID=UTC:20220519T203000
DTSTAMP:20260423T101946
CREATED:20220329T231710Z
LAST-MODIFIED:20220329T231710Z
UID:3591-1652986800-1652992200@tuxedotennis.com
SUMMARY:FAST - Fun Adult Start Tennis Starts
DESCRIPTION:FAST – Fun Adult Starter Tennis May 19 to June 16 (June 2 off) \nThis Clinic is designed for starter players to learn the fundamentals of tennis FAST. Players will serve\, rally and score from the first FAST session. Specialized balls are used to make play easier and speed learning. \n4 Sessions Thursdays 7:00-8:30pm
URL:http://tuxedotennis.com/event/fast-fun-adult-start-tennis-starts/
END:VEVENT
BEGIN:VEVENT
DTSTART;TZID=UTC:20201105T190000
DTEND;TZID=UTC:20201105T200000
DTSTAMP:20260423T101946
CREATED:20201020T024629Z
LAST-MODIFIED:20201020T024629Z
UID:2854-1604602800-1604606400@tuxedotennis.com
SUMMARY:2020 AGM
DESCRIPTION:The annual general meeting of the Tuxedo Tennis Club will take place via Zoom at  7:00 pm.\nIf you wish to attend\, please pre-register\, by sending an email to tuxedotennisboard@gmail.com
URL:http://tuxedotennis.com/event/2020-agm/
END:VEVENT
BEGIN:VEVENT
DTSTART;TZID=UTC:20200911T170000
DTEND;TZID=UTC:20200913T170000
DTSTAMP:20260423T101946
CREATED:20201020T025332Z
LAST-MODIFIED:20201020T025332Z
UID:2856-1599843600-1600016400@tuxedotennis.com
SUMMARY:Club Fall Tournament
DESCRIPTION:TTC Fall Club Tournament runs Friday Sept 11 to Sunday Sept 13
URL:http://tuxedotennis.com/event/club-fall-tournament/
END:VEVENT
BEGIN:VEVENT
DTSTART;TZID=UTC:20190913T173000
DTEND;TZID=UTC:20190915T210000
DTSTAMP:20260423T101946
CREATED:20190429T215024Z
LAST-MODIFIED:20190914T002414Z
UID:2136-1568395800-1568581200@tuxedotennis.com
SUMMARY:Club Fall Tournament and End of Season Club Social event
DESCRIPTION:The Club Fall tournament runs from Friday\, September 13 to 15.\nWe kick off the weekend with an End of Season Social Event on Friday evening. \nSingles – Ladies\, Mens\nDoubles – Ladies\, Mens\, Mixed\, Adult/Child
URL:http://tuxedotennis.com/event/club-fall-tournament-and-end-of-season-club-social-event/
ATTACH;FMTTYPE=image/jpeg:http://tuxedotennis.com/wp-content/uploads/2017/01/logowebsite.jpg
END:VEVENT
BEGIN:VEVENT
DTSTART;TZID=UTC:20190828T183000
DTEND;TZID=UTC:20190828T213000
DTSTAMP:20260423T101946
CREATED:20190429T213833Z
LAST-MODIFIED:20190429T213850Z
UID:2132-1567017000-1567027800@tuxedotennis.com
SUMMARY:Team Tennis Session #2 Windup
DESCRIPTION:Team Tennis Session #2 ends. Team Tennis Windup
URL:http://tuxedotennis.com/event/team-tennis-session-2-windup/
END:VEVENT
BEGIN:VEVENT
DTSTART;TZID=UTC:20190808T180000
DTEND;TZID=UTC:20190808T210000
DTSTAMP:20260423T101946
CREATED:20190429T214251Z
LAST-MODIFIED:20190429T214300Z
UID:2134-1565287200-1565298000@tuxedotennis.com
SUMMARY:TTC Round Robin Social Evening
DESCRIPTION:Come out for a fun evening of tennis and refreshments. Pre-registration is required.
URL:http://tuxedotennis.com/event/ttc-round-robin-social-evening/
END:VEVENT
BEGIN:VEVENT
DTSTART;VALUE=DATE:20190715
DTEND;VALUE=DATE:20190722
DTSTAMP:20260423T101946
CREATED:20190328T055719Z
LAST-MODIFIED:20190328T060201Z
UID:2042-1563148800-1563753599@tuxedotennis.com
SUMMARY:Tuxedo Open - see details for court usage
DESCRIPTION:Tuxedo Open – Tennis Manitoba \nAll 6 courts are in use for the following time periods: \nMonday to Friday July 15 – 19          5:00pm to 9:00pm\nSaturday July 20                              9:00am to 6:00pm\nSunday July 21                                9:00am to 6:00pm \n 
URL:http://tuxedotennis.com/event/tuxedo-open-tennis-manitoba/
END:VEVENT
BEGIN:VEVENT
DTSTART;TZID=UTC:20190707T140000
DTEND;TZID=UTC:20190707T170000
DTSTAMP:20260423T101946
CREATED:20190328T054658Z
LAST-MODIFIED:20190328T054824Z
UID:2040-1562508000-1562518800@tuxedotennis.com
SUMMARY:Rogers Rookie Tour
DESCRIPTION:Rogers Rookie Tour – Sunday\, July 7 2:00pm to 5:00pm \n4 courts will be used for the Rogers Rookie Tour
URL:http://tuxedotennis.com/event/rogers-rookie-tour-4/
END:VEVENT
BEGIN:VEVENT
DTSTART;TZID=UTC:20190703T183000
DTEND;TZID=UTC:20190703T210000
DTSTAMP:20260423T101946
CREATED:20190429T212112Z
LAST-MODIFIED:20190429T212634Z
UID:2124-1562178600-1562187600@tuxedotennis.com
SUMMARY:Team Tennis Session #2 Starts
DESCRIPTION:Team Tennis Session #2 runs every Wednesday from Jul 3- Aug 28 (*No Tennis  July 17 due to Tuxedo Tennis Open )
URL:http://tuxedotennis.com/event/team-tennis-session-2/
END:VEVENT
BEGIN:VEVENT
DTSTART;TZID=UTC:20190626T183000
DTEND;TZID=UTC:20190626T213000
DTSTAMP:20260423T101946
CREATED:20190429T213230Z
LAST-MODIFIED:20190429T213239Z
UID:2130-1561573800-1561584600@tuxedotennis.com
SUMMARY:Team Tennis Session #1 Windup
DESCRIPTION:Team Tennis Session #1 ends with a team windup.
URL:http://tuxedotennis.com/event/team-tennis-session-1-windup/
END:VEVENT
BEGIN:VEVENT
DTSTART;TZID=UTC:20190616T140000
DTEND;TZID=UTC:20190616T170000
DTSTAMP:20260423T101946
CREATED:20190328T054233Z
LAST-MODIFIED:20190328T054256Z
UID:2038-1560693600-1560704400@tuxedotennis.com
SUMMARY:Rogers Rookie Tour
DESCRIPTION:Rogers Rookie Tour – Sunday\, June 16 2:00pm to 5:00pm \n4 courts will be used for the Rogers Rookie Tour
URL:http://tuxedotennis.com/event/rogers-rookie-tour-3/
END:VEVENT
BEGIN:VEVENT
DTSTART;TZID=UTC:20190530T190000
DTEND;TZID=UTC:20190530T203000
DTSTAMP:20260423T101946
CREATED:20190328T052548Z
LAST-MODIFIED:20190328T052548Z
UID:2032-1559242800-1559248200@tuxedotennis.com
SUMMARY:Beginner FAST Clinic Session 4
DESCRIPTION:Beginner FAST Clinic Session 4 \n7:00 PM to 8:30 PM
URL:http://tuxedotennis.com/event/beginner-fast-clinic-session-4/
END:VEVENT
BEGIN:VEVENT
DTSTART;VALUE=DATE:20190530
DTEND;VALUE=DATE:20190603
DTSTAMP:20260423T101946
CREATED:20190328T053135Z
LAST-MODIFIED:20190328T061009Z
UID:2034-1559174400-1559519999@tuxedotennis.com
SUMMARY:Tuxedo Junior Open - see details for court usage
DESCRIPTION:Tuxedo Junior Open (Tennis Manitoba) \nFriday\, May 30 to Sunday\, June 2 \nCourt Usage Times: \nMay 30 – 5:00pm to 9:00pm  – 5 courts\nMay 31 – 5:00pm to 9:00pm – 6 courts\nJune 1 – 9:00am to 6:00pm  – 6 courts\nJune 2 – 9:00am to 6:00pm  – 6 courts
URL:http://tuxedotennis.com/event/tuxedo-junior-open-tm/
END:VEVENT
BEGIN:VEVENT
DTSTART;TZID=UTC:20190524T190000
DTEND;TZID=UTC:20190524T213000
DTSTAMP:20260423T101946
CREATED:20190507T010031Z
LAST-MODIFIED:20190519T042518Z
UID:2166-1558724400-1558733400@tuxedotennis.com
SUMMARY:Wine & Cheese
DESCRIPTION:This is an evening for some fun tennis playing and socialising!\nIt will be $5 per person to help us pay for the food.\nCash bar for wine & beer. Non-alcoholic drinks for sale as well.\nPlease RSVP by Wednesday\, May 22nd by phone (204-837-3766)\, email (tuxedotennis@gmail.com) or in person.\nYou may bring a guest who is not a member\, they must pay our guest fee ($10) or use a guest pass if they wish to play tennis.
URL:http://tuxedotennis.com/event/wine-cheese/
END:VEVENT
BEGIN:VEVENT
DTSTART;TZID=UTC:20190523T190000
DTEND;TZID=UTC:20190523T203000
DTSTAMP:20260423T101946
CREATED:20190328T052411Z
LAST-MODIFIED:20190328T052411Z
UID:2030-1558638000-1558643400@tuxedotennis.com
SUMMARY:Beginner FAST Clinic Session 3
DESCRIPTION:Beginner FAST Clinic Session 3 \n7:00 PM to 8:30 PM
URL:http://tuxedotennis.com/event/beginner-fast-clinic-session-3/
END:VEVENT
BEGIN:VEVENT
DTSTART;TZID=UTC:20190516T190000
DTEND;TZID=UTC:20190516T203000
DTSTAMP:20260423T101946
CREATED:20190328T052218Z
LAST-MODIFIED:20190328T052233Z
UID:2027-1558033200-1558038600@tuxedotennis.com
SUMMARY:Beginner FAST Clinic Session 2
DESCRIPTION:Beginner FAST Clinic Session 2 \n7:00 PM to 8:30 PM
URL:http://tuxedotennis.com/event/beginner-fast-clinic-session-2/
END:VEVENT
END:VCALENDAR